BEGIN:VCALENDAR
VERSION:2.0
PRODID:-//Tukios.com/
BEGIN:VEVENT
UID:6b6de940-0538-4b34-90ae-353e1518f6cd@www.lewisfuneralhomeinc.com
DTSTAMP:20260419T212456Z
DTSTART:20260423T150000Z
DTEND:20260423T160000Z
SUMMARY:Celebration of Life
DESCRIPTION:
URL:https://www.lewisfuneralhomeinc.com/obituaries/d-olney
LOCATION:Grace United Methodist Church 501 Pennsylvania Ave E  Warren PA 
	16365
GEO:41.841488;-79.135193
END:VEVENT
END:VCALENDAR