BEGIN:VCALENDAR
VERSION:2.0
PRODID:-//Tukios.com/
BEGIN:VEVENT
UID:25149645-1d6d-49cc-8e06-e7594ef2ae4e@www.lewisfuneralhomeinc.com
DTSTAMP:20260419T212159Z
DTSTART:20260423T140000Z
DTEND:20260423T150000Z
SUMMARY:Visitation with Family
DESCRIPTION:
URL:https://www.lewisfuneralhomeinc.com/obituaries/d-olney
LOCATION:Grace United Methodist Church 501 Pennsylvania Ave E  Warren PA 
	16365
GEO:41.841488;-79.135193
END:VEVENT
END:VCALENDAR