BEGIN:VCALENDAR
VERSION:2.0
PRODID:-//Tukios.com/
BEGIN:VEVENT
UID:779997be-3af5-424a-a454-797dc701329a@www.lewisfuneralhomeinc.com
DTSTAMP:20260422T202558Z
DTSTART:20260424T200000Z
DTEND:20260424T230000Z
SUMMARY:Visitation
DESCRIPTION:
URL:https://www.lewisfuneralhomeinc.com/obituaries/rodney-gage
LOCATION:Donald E. Lewis Funeral Home Inc. 304 East Street  Warren PA 
	16365
GEO:41.8475187;-79.1435426
END:VEVENT
END:VCALENDAR