BEGIN:VCALENDAR
VERSION:2.0
PRODID:-//Tukios.com/
BEGIN:VEVENT
UID:600820e4-7a70-4f17-8a15-d22f46571cf9@www.lewisfuneralhomeinc.com
DTSTAMP:20260422T203419Z
DTSTART:20260424T230000Z
DTEND:20260425T000000Z
SUMMARY:Funeral Service
DESCRIPTION:
URL:https://www.lewisfuneralhomeinc.com/obituaries/rodney-gage
LOCATION:Donald E. Lewis Funeral Home Inc. 304 East Street  Warren PA 
	16365
GEO:41.8475187;-79.1435426
END:VEVENT
END:VCALENDAR